BEGIN:VCALENDAR
VERSION:2.0
PRODID:-//Arnold Magnetic Technologies - ECPv6.15.20//NONSGML v1.0//EN
CALSCALE:GREGORIAN
METHOD:PUBLISH
X-ORIGINAL-URL:https://www.arnoldmagnetics.com
X-WR-CALDESC:Events for Arnold Magnetic Technologies
REFRESH-INTERVAL;VALUE=DURATION:PT1H
X-Robots-Tag:noindex
X-PUBLISHED-TTL:PT1H
BEGIN:VTIMEZONE
TZID:America/New_York
BEGIN:DAYLIGHT
TZOFFSETFROM:-0500
TZOFFSETTO:-0400
TZNAME:EDT
DTSTART:20230312T070000
END:DAYLIGHT
BEGIN:STANDARD
TZOFFSETFROM:-0400
TZOFFSETTO:-0500
TZNAME:EST
DTSTART:20231105T060000
END:STANDARD
BEGIN:DAYLIGHT
TZOFFSETFROM:-0500
TZOFFSETTO:-0400
TZNAME:EDT
DTSTART:20240310T070000
END:DAYLIGHT
BEGIN:STANDARD
TZOFFSETFROM:-0400
TZOFFSETTO:-0500
TZNAME:EST
DTSTART:20241103T060000
END:STANDARD
BEGIN:DAYLIGHT
TZOFFSETFROM:-0500
TZOFFSETTO:-0400
TZNAME:EDT
DTSTART:20250309T070000
END:DAYLIGHT
BEGIN:STANDARD
TZOFFSETFROM:-0400
TZOFFSETTO:-0500
TZNAME:EST
DTSTART:20251102T060000
END:STANDARD
END:VTIMEZONE
BEGIN:VEVENT
DTSTART;VALUE=DATE:20240408
DTEND;VALUE=DATE:20240411
DTSTAMP:20260421T121257
CREATED:20240308T181709Z
LAST-MODIFIED:20240308T181709Z
UID:10267-1712534400-1712793599@www.arnoldmagnetics.com
SUMMARY:TRADE SHOW: SEA-AIR-SPACE 2024
DESCRIPTION:Arnold will be exhibiting at the 2024 Sea Air Space Conference in National Harbor\, MD from April 8 – 10. Stop by booth T200 to visit with Aaron Williams\, John McGrath\, and Jasper Ress of Arnold Magnetic Technologies along with Keagan Aukerman of Ramco Electric Motors. \nThis exposition brings the U.S. defense industry and key military decision-makers together for informative educational sessions\, important policy discussions\, a dynamic luncheon and keynote speakers\, and an industry exhibit. \nRegister Now
URL:https://www.arnoldmagnetics.com/event/trade-show-sea-air-space-2024/
LOCATION:Legal
END:VEVENT
END:VCALENDAR