BEGIN:VCALENDAR
VERSION:2.0
PRODID:-//Arnold Magnetic Technologies - ECPv6.15.20//NONSGML v1.0//EN
CALSCALE:GREGORIAN
METHOD:PUBLISH
X-ORIGINAL-URL:https://www.arnoldmagnetics.com
X-WR-CALDESC:Events for Arnold Magnetic Technologies
REFRESH-INTERVAL;VALUE=DURATION:PT1H
X-Robots-Tag:noindex
X-PUBLISHED-TTL:PT1H
BEGIN:VTIMEZONE
TZID:America/New_York
BEGIN:DAYLIGHT
TZOFFSETFROM:-0500
TZOFFSETTO:-0400
TZNAME:EDT
DTSTART:20210314T070000
END:DAYLIGHT
BEGIN:STANDARD
TZOFFSETFROM:-0400
TZOFFSETTO:-0500
TZNAME:EST
DTSTART:20211107T060000
END:STANDARD
BEGIN:DAYLIGHT
TZOFFSETFROM:-0500
TZOFFSETTO:-0400
TZNAME:EDT
DTSTART:20220313T070000
END:DAYLIGHT
BEGIN:STANDARD
TZOFFSETFROM:-0400
TZOFFSETTO:-0500
TZNAME:EST
DTSTART:20221106T060000
END:STANDARD
BEGIN:DAYLIGHT
TZOFFSETFROM:-0500
TZOFFSETTO:-0400
TZNAME:EDT
DTSTART:20230312T070000
END:DAYLIGHT
BEGIN:STANDARD
TZOFFSETFROM:-0400
TZOFFSETTO:-0500
TZNAME:EST
DTSTART:20231105T060000
END:STANDARD
END:VTIMEZONE
BEGIN:VEVENT
DTSTART;VALUE=DATE:20220531
DTEND;VALUE=DATE:20220602
DTSTAMP:20260424T005843
CREATED:20220426T162946Z
LAST-MODIFIED:20220426T162946Z
UID:9194-1653955200-1654127999@www.arnoldmagnetics.com
SUMMARY:Trade Show: Electric & Hybrid Aerospace Technology Symposium
DESCRIPTION:  \n \nArnold will be exhibiting at the Electric & Hybrid Aerospace Technology Symposium in Frankfurt\, Germany. Visit representatives Adeline Boureille and David Terrington at booth 700 May 31 & June 1\, 2022. \nElectric & Hybrid Aerospace Technology Symposium is the world’s leading international conference dedicated to ultra-low-emission aircraft technology and full-electric flight possibilities. The two-day event will cover all aspects of aerospace activity\, from general aviation\, eVTOL and smaller regional aircraft\, to larger commercial airliners. Its purpose is to highlight the fast-paced development of hybrid propulsion and electrical subsystem architecture or MEA\, and to discuss the vast research into increased electrification of aircraft and the possibilities and challenges that brings. \nRegister Now
URL:https://www.arnoldmagnetics.com/event/trade-show-electric-hybrid-aerospace-technology-symposium/
LOCATION:UKi Media & Events
END:VEVENT
BEGIN:VEVENT
DTSTART;VALUE=DATE:20220531
DTEND;VALUE=DATE:20220602
DTSTAMP:20260424T005843
CREATED:20220426T162946Z
LAST-MODIFIED:20220426T162946Z
UID:11092-1653955200-1654127999@www.arnoldmagnetics.com
SUMMARY:Trade Show: Electric & Hybrid Aerospace Technology Symposium
DESCRIPTION:  \n \nArnold will be exhibiting at the Electric & Hybrid Aerospace Technology Symposium in Frankfurt\, Germany. Visit representatives Adeline Boureille and David Terrington at booth 700 May 31 & June 1\, 2022. \nElectric & Hybrid Aerospace Technology Symposium is the world’s leading international conference dedicated to ultra-low-emission aircraft technology and full-electric flight possibilities. The two-day event will cover all aspects of aerospace activity\, from general aviation\, eVTOL and smaller regional aircraft\, to larger commercial airliners. Its purpose is to highlight the fast-paced development of hybrid propulsion and electrical subsystem architecture or MEA\, and to discuss the vast research into increased electrification of aircraft and the possibilities and challenges that brings. \nRegister Now
URL:https://www.arnoldmagnetics.com/event/trade-show-electric-hybrid-aerospace-technology-symposium-2/
LOCATION:UKi Media & Events
END:VEVENT
END:VCALENDAR