BEGIN:VCALENDAR
VERSION:2.0
PRODID:-//Arnold Magnetic Technologies - ECPv6.15.20//NONSGML v1.0//EN
CALSCALE:GREGORIAN
METHOD:PUBLISH
X-ORIGINAL-URL:https://www.arnoldmagnetics.com
X-WR-CALDESC:Events for Arnold Magnetic Technologies
REFRESH-INTERVAL;VALUE=DURATION:PT1H
X-Robots-Tag:noindex
X-PUBLISHED-TTL:PT1H
BEGIN:VTIMEZONE
TZID:America/New_York
BEGIN:DAYLIGHT
TZOFFSETFROM:-0500
TZOFFSETTO:-0400
TZNAME:EDT
DTSTART:20220313T070000
END:DAYLIGHT
BEGIN:STANDARD
TZOFFSETFROM:-0400
TZOFFSETTO:-0500
TZNAME:EST
DTSTART:20221106T060000
END:STANDARD
BEGIN:DAYLIGHT
TZOFFSETFROM:-0500
TZOFFSETTO:-0400
TZNAME:EDT
DTSTART:20230312T070000
END:DAYLIGHT
BEGIN:STANDARD
TZOFFSETFROM:-0400
TZOFFSETTO:-0500
TZNAME:EST
DTSTART:20231105T060000
END:STANDARD
BEGIN:DAYLIGHT
TZOFFSETFROM:-0500
TZOFFSETTO:-0400
TZNAME:EDT
DTSTART:20240310T070000
END:DAYLIGHT
BEGIN:STANDARD
TZOFFSETFROM:-0400
TZOFFSETTO:-0500
TZNAME:EST
DTSTART:20241103T060000
END:STANDARD
END:VTIMEZONE
BEGIN:VEVENT
DTSTART;TZID=America/New_York:20230608T100000
DTEND;TZID=America/New_York:20230608T110000
DTSTAMP:20260423T055411
CREATED:20230501T180606Z
LAST-MODIFIED:20230501T180606Z
UID:11099-1686218400-1686222000@www.arnoldmagnetics.com
SUMMARY:Webinar: Understanding Commercial and Military Compliance for Permanent Magnet Products
DESCRIPTION:Navigating government compliance when it comes to rare earth elements for permanent magnets can be confusing. Besides the usual requirements for ITAR and DFARS\, there are additional regulations from the National Defense Authorization Act (NDAA)/John McCain Act\, as well as licensing pitfalls to avoid. In this webinar\, we’ll review terms\, explain the various regulations and help you learn where to find regulation and legislation\, points data should be protected\, and properly vet suppliers to ensure your relationship with your aerospace\, defense and government customers is protected. \n\nHelp protect your company from serious violations and loss of business.\nExplore some of the differences between general import/export regulations and those specific to aerospace and defense use.\nBecome familiar with additional regulations pertaining to rare earth elements and other specialty metals.\nGain a deeper understanding of NDAA legislation.\n\nThe presentation will wrap up with a short Q&A as time permits. \nSpeaker: Aaron Williams\, VP Sales & Marketing \nWilliams has 15 years of engineering and R&D experience in the magnetics industry\, and is an active participant in industry collaborations including motor and motion\, magnetics\, MCMA\, ECCE and IEEE/IEMDC. He regularly works with learning institutions and research centers such as the University of Kentucky\, WEMPEC\, Draper Labs\, Lawrence Livermore National Labs\, ORNL\, and AMES Labs and was recently promoted to VP of Sales & Marketing. \n\n\n\nRegister Now\n\n  \n  \nPARTICIPANTS IN THIS WEBINAR ARE NOT TO CONSTRUE THE INFORMATION PRESENTED\, WHETHER ORALLY OR IN WRITING\, AS LEGAL OR BUSINESS ADVICE. EACH PARTICIPANT SHOULD CONSULT WITH HIS OR HER OWN LEGAL OR BUSINESS ADVISOR AS TO LEGAL\, BUSINESS AND RELATED MATTERS REGARDING COMPLIANCE WITH ALL APPLICABLE RULES AND REGULATIONS. NEITHER THE SPEAKER NOR ARNOLD MAGNETIC TECHNOLOGIES SHALL HAVE ANY RESPONSIBILITY TO ANY PARTICIPANT IN THIS WEBINAR OR THEIR EMPLOYERS WITH RESPECT TO REGULATORY COMPLIANCE AND SIMILAR ISSUES.
URL:https://www.arnoldmagnetics.com/event/webinar-understanding-commercial-and-military-compliance-for-permanent-magnet-products/
ATTACH;FMTTYPE=image/png:https://www.arnoldmagnetics.com/wp-content/uploads/2023/01/utcaerospacelogo.png
END:VEVENT
END:VCALENDAR