BEGIN:VCALENDAR
VERSION:2.0
PRODID:-//Arnold Magnetic Technologies - ECPv6.15.20//NONSGML v1.0//EN
CALSCALE:GREGORIAN
METHOD:PUBLISH
X-WR-CALNAME:Arnold Magnetic Technologies
X-ORIGINAL-URL:https://www.arnoldmagnetics.com
X-WR-CALDESC:Events for Arnold Magnetic Technologies
REFRESH-INTERVAL;VALUE=DURATION:PT1H
X-Robots-Tag:noindex
X-PUBLISHED-TTL:PT1H
BEGIN:VTIMEZONE
TZID:America/New_York
BEGIN:DAYLIGHT
TZOFFSETFROM:-0500
TZOFFSETTO:-0400
TZNAME:EDT
DTSTART:20220313T070000
END:DAYLIGHT
BEGIN:STANDARD
TZOFFSETFROM:-0400
TZOFFSETTO:-0500
TZNAME:EST
DTSTART:20221106T060000
END:STANDARD
BEGIN:DAYLIGHT
TZOFFSETFROM:-0500
TZOFFSETTO:-0400
TZNAME:EDT
DTSTART:20230312T070000
END:DAYLIGHT
BEGIN:STANDARD
TZOFFSETFROM:-0400
TZOFFSETTO:-0500
TZNAME:EST
DTSTART:20231105T060000
END:STANDARD
BEGIN:DAYLIGHT
TZOFFSETFROM:-0500
TZOFFSETTO:-0400
TZNAME:EDT
DTSTART:20240310T070000
END:DAYLIGHT
BEGIN:STANDARD
TZOFFSETFROM:-0400
TZOFFSETTO:-0500
TZNAME:EST
DTSTART:20241103T060000
END:STANDARD
END:VTIMEZONE
BEGIN:VEVENT
DTSTART;VALUE=DATE:20230201
DTEND;VALUE=DATE:20230203
DTSTAMP:20260421T083818
CREATED:20230117T160245Z
LAST-MODIFIED:20230117T160245Z
UID:11096-1675209600-1675382399@www.arnoldmagnetics.com
SUMMARY:Trade Show: Motor & Drive Systems 2023/Magnetics Expo
DESCRIPTION:Arnold will be exhibiting at the 2023 Motors & Drives Show in Orlando on February 1 & 2. Visit with Keagan Aukerman from Arnold’s Ramco Electric Motors business unit\, and don’t miss Aaron Williams’ appearance on the panel discussion “Motor & Drive Design & Efficiency” \nMotor & Drive Systems 2023 is focused on the latest technical advancements impacting the design\, integration and efficiency of motor\, drive systems\, and motion control for automation\, robotics\, manufacturing\, and industrial\, as well as utilities and automotive applications. \nConference topics will include improving motor efficiency and reliability\, regulatory and safety issues\, testing standards\, and programs\, emerging and high growth applications\, developing and pairing motor & drive systems and improving loss prediction and calculation. Join leading engineers\, manufacturers\, system integrators\, machine builders\, and consultants and discover how new technologies are improving performance and providing cost savings in a variety of applications. \n​The conference will be co-located with Magnetics 2023\, with a full registration pass granting access to both programs. \nRegister Now
URL:https://www.arnoldmagnetics.com/event/trade-show-motor-drive-systems-2023-magnetics-expo/
END:VEVENT
END:VCALENDAR